BEGIN:VCALENDAR
VERSION:2.0
PRODID:-//Talento Vallisoletano - ECPv6.15.16//NONSGML v1.0//EN
CALSCALE:GREGORIAN
METHOD:PUBLISH
X-ORIGINAL-URL:https://redtalentovalladolid.es
X-WR-CALDESC:Eventos para Talento Vallisoletano
REFRESH-INTERVAL;VALUE=DURATION:PT1H
X-Robots-Tag:noindex
X-PUBLISHED-TTL:PT1H
BEGIN:VTIMEZONE
TZID:Europe/Madrid
BEGIN:DAYLIGHT
TZOFFSETFROM:+0100
TZOFFSETTO:+0200
TZNAME:CEST
DTSTART:20250330T010000
END:DAYLIGHT
BEGIN:STANDARD
TZOFFSETFROM:+0200
TZOFFSETTO:+0100
TZNAME:CET
DTSTART:20251026T010000
END:STANDARD
BEGIN:DAYLIGHT
TZOFFSETFROM:+0100
TZOFFSETTO:+0200
TZNAME:CEST
DTSTART:20260329T010000
END:DAYLIGHT
BEGIN:STANDARD
TZOFFSETFROM:+0200
TZOFFSETTO:+0100
TZNAME:CET
DTSTART:20261025T010000
END:STANDARD
BEGIN:DAYLIGHT
TZOFFSETFROM:+0100
TZOFFSETTO:+0200
TZNAME:CEST
DTSTART:20270328T010000
END:DAYLIGHT
BEGIN:STANDARD
TZOFFSETFROM:+0200
TZOFFSETTO:+0100
TZNAME:CET
DTSTART:20271031T010000
END:STANDARD
END:VTIMEZONE
BEGIN:VEVENT
DTSTART;TZID=Europe/Madrid:20260317T160000
DTEND;TZID=Europe/Madrid:20260317T170000
DTSTAMP:20260425T002141
CREATED:20260310T111641Z
LAST-MODIFIED:20260310T112349Z
UID:10000012-1773763200-1773766800@redtalentovalladolid.es
SUMMARY:'Sesiones con expertos': fiscalidad para expatriados
DESCRIPTION:La Red del Talento Vallisoletano en el Exterior inaugura las Sesiones con Expertos\, un nuevo formato de encuentro en el que se abordarán diferentes temas de interés para los miembros. Se trata de un espacio de formación práctica y acompañamiento dirigido a profesionales que desarrollan su carrera fuera de España. \n\n\n\nLa primera cita tendrá lugar el martes 17 de marzo\, a las 16.00 horas (España)\, y estará dedicada a la fiscalidad para expatriados. Conducido por el asesor y consultor Ángel Ferreras\, el encuentro se celebrará en formato online\, a través de Teams\, facilitando así la participación de los miembros de la Red desde distintos países del mundo. \n\n\n\nLa fiscalidad es una de las cuestiones que más incertidumbre genera entre quienes inician o consolidan su trayectoria profesional en el extranjero. Conceptos como la residencia fiscal\, la doble imposición o las obligaciones tributarias en distintos países pueden resultar complejos y\, en muchos casos\, determinantes en la planificación personal y profesional. \n\n\n\nLas Sesiones con Expertos se suman a los ciclos Encuentros con la Red y CEOE Conecta\, iniciativas que refuerzan el compromiso de acompañar al talento vallisoletano en el exterior\, y que promueven el intercambio de conocimiento y la creación de sinergias profesionales. \n\n\n\nUbicación: Online – Teams Fecha: Martes 17 de marzo\, 16:00 – 17:00 (España)
URL:https://redtalentovalladolid.es/evento/sesiones-con-expertos-fiscalidad-para-expatriados/
ATTACH;FMTTYPE=image/jpeg:https://redtalentovalladolid.es/wp-content/uploads/fiscalidad-para-expatriados.jpg
END:VEVENT
END:VCALENDAR