BEGIN:VCALENDAR
VERSION:2.0
PRODID:-//Talento Vallisoletano - ECPv6.15.16//NONSGML v1.0//EN
CALSCALE:GREGORIAN
METHOD:PUBLISH
X-WR-CALNAME:Talento Vallisoletano
X-ORIGINAL-URL:https://redtalentovalladolid.es
X-WR-CALDESC:Eventos para Talento Vallisoletano
REFRESH-INTERVAL;VALUE=DURATION:PT1H
X-Robots-Tag:noindex
X-PUBLISHED-TTL:PT1H
BEGIN:VTIMEZONE
TZID:Europe/Madrid
BEGIN:DAYLIGHT
TZOFFSETFROM:+0100
TZOFFSETTO:+0200
TZNAME:CEST
DTSTART:20250330T010000
END:DAYLIGHT
BEGIN:STANDARD
TZOFFSETFROM:+0200
TZOFFSETTO:+0100
TZNAME:CET
DTSTART:20251026T010000
END:STANDARD
BEGIN:DAYLIGHT
TZOFFSETFROM:+0100
TZOFFSETTO:+0200
TZNAME:CEST
DTSTART:20260329T010000
END:DAYLIGHT
BEGIN:STANDARD
TZOFFSETFROM:+0200
TZOFFSETTO:+0100
TZNAME:CET
DTSTART:20261025T010000
END:STANDARD
BEGIN:DAYLIGHT
TZOFFSETFROM:+0100
TZOFFSETTO:+0200
TZNAME:CEST
DTSTART:20270328T010000
END:DAYLIGHT
BEGIN:STANDARD
TZOFFSETFROM:+0200
TZOFFSETTO:+0100
TZNAME:CET
DTSTART:20271031T010000
END:STANDARD
END:VTIMEZONE
BEGIN:VEVENT
DTSTART;TZID=Europe/Madrid:20260604T170000
DTEND;TZID=Europe/Madrid:20260604T180000
DTSTAMP:20260425T155141
CREATED:20260401T110413Z
LAST-MODIFIED:20260420T084608Z
UID:10000019-1780592400-1780596000@redtalentovalladolid.es
SUMMARY:'CEOE Conecta': José Bros
DESCRIPTION:Ubicación: Online – Teams \n\n\n\nJosé Bros Tejedor es director comercial\, de marketing y medios digitales en Oasis Hotels & Resorts.  \n\n\n\nLicenciado en Administración y Dirección de Empresas y en Derecho por CUNEF\, inició su carrera en banca de inversión en Nomura\, aunque pronto orientó su trayectoria hacia el sector hotelero\, atraído por su dinamismo y cercanía con el cliente. Cuenta con más de una década de experiencia en México\, donde ha liderado la estrategia digital\, comercial y de distribución del grupo\, impulsando el crecimiento en mercados internacionales y la optimización del canal directo.
URL:https://redtalentovalladolid.es/evento/ceoe-conecta-2/
ATTACH;FMTTYPE=image/jpeg:https://redtalentovalladolid.es/wp-content/uploads/Jose_Bros_CEOE_Conecta.jpg
END:VEVENT
END:VCALENDAR