BEGIN:VCALENDAR
VERSION:2.0
PRODID:-//Talento Vallisoletano - ECPv6.15.16//NONSGML v1.0//EN
CALSCALE:GREGORIAN
METHOD:PUBLISH
X-ORIGINAL-URL:https://redtalentovalladolid.es
X-WR-CALDESC:Eventos para Talento Vallisoletano
REFRESH-INTERVAL;VALUE=DURATION:PT1H
X-Robots-Tag:noindex
X-PUBLISHED-TTL:PT1H
BEGIN:VTIMEZONE
TZID:Europe/Madrid
BEGIN:DAYLIGHT
TZOFFSETFROM:+0100
TZOFFSETTO:+0200
TZNAME:CEST
DTSTART:20250330T010000
END:DAYLIGHT
BEGIN:STANDARD
TZOFFSETFROM:+0200
TZOFFSETTO:+0100
TZNAME:CET
DTSTART:20251026T010000
END:STANDARD
BEGIN:DAYLIGHT
TZOFFSETFROM:+0100
TZOFFSETTO:+0200
TZNAME:CEST
DTSTART:20260329T010000
END:DAYLIGHT
BEGIN:STANDARD
TZOFFSETFROM:+0200
TZOFFSETTO:+0100
TZNAME:CET
DTSTART:20261025T010000
END:STANDARD
BEGIN:DAYLIGHT
TZOFFSETFROM:+0100
TZOFFSETTO:+0200
TZNAME:CEST
DTSTART:20270328T010000
END:DAYLIGHT
BEGIN:STANDARD
TZOFFSETFROM:+0200
TZOFFSETTO:+0100
TZNAME:CET
DTSTART:20271031T010000
END:STANDARD
END:VTIMEZONE
BEGIN:VEVENT
DTSTART;TZID=Europe/Madrid:20260317T160000
DTEND;TZID=Europe/Madrid:20260317T170000
DTSTAMP:20260425T131345
CREATED:20260310T111641Z
LAST-MODIFIED:20260310T112349Z
UID:10000012-1773763200-1773766800@redtalentovalladolid.es
SUMMARY:'Sesiones con expertos': fiscalidad para expatriados
DESCRIPTION:La Red del Talento Vallisoletano en el Exterior inaugura las Sesiones con Expertos\, un nuevo formato de encuentro en el que se abordarán diferentes temas de interés para los miembros. Se trata de un espacio de formación práctica y acompañamiento dirigido a profesionales que desarrollan su carrera fuera de España. \n\n\n\nLa primera cita tendrá lugar el martes 17 de marzo\, a las 16.00 horas (España)\, y estará dedicada a la fiscalidad para expatriados. Conducido por el asesor y consultor Ángel Ferreras\, el encuentro se celebrará en formato online\, a través de Teams\, facilitando así la participación de los miembros de la Red desde distintos países del mundo. \n\n\n\nLa fiscalidad es una de las cuestiones que más incertidumbre genera entre quienes inician o consolidan su trayectoria profesional en el extranjero. Conceptos como la residencia fiscal\, la doble imposición o las obligaciones tributarias en distintos países pueden resultar complejos y\, en muchos casos\, determinantes en la planificación personal y profesional. \n\n\n\nLas Sesiones con Expertos se suman a los ciclos Encuentros con la Red y CEOE Conecta\, iniciativas que refuerzan el compromiso de acompañar al talento vallisoletano en el exterior\, y que promueven el intercambio de conocimiento y la creación de sinergias profesionales. \n\n\n\nUbicación: Online – Teams Fecha: Martes 17 de marzo\, 16:00 – 17:00 (España)
URL:https://redtalentovalladolid.es/evento/sesiones-con-expertos-fiscalidad-para-expatriados/
ATTACH;FMTTYPE=image/jpeg:https://redtalentovalladolid.es/wp-content/uploads/fiscalidad-para-expatriados.jpg
END:VEVENT
BEGIN:VEVENT
DTSTART;TZID=Europe/Madrid:20260407T090000
DTEND;TZID=Europe/Madrid:20260407T093000
DTSTAMP:20260425T131345
CREATED:20260310T120203Z
LAST-MODIFIED:20260310T121339Z
UID:10000015-1775552400-1775554200@redtalentovalladolid.es
SUMMARY:Reunión bienvenida para los nuevos miembros de la Red
DESCRIPTION:Ubicación: Online – Teams  \n\n\n\nOrden del día: \n\n\n\n\nPresentación de la Red del Talento Vallisoletano en el Exterior\n\n\n\nBreve presentación de los asistentes\n\n\n\nCalendario de actividades y próximas fechas destacadas
URL:https://redtalentovalladolid.es/evento/reunion-bienvenida-para-los-nuevos-miembros-de-la-red/
ATTACH;FMTTYPE=image/jpeg:https://redtalentovalladolid.es/wp-content/uploads/reunion-bienvenida.jpg
END:VEVENT
BEGIN:VEVENT
DTSTART;TZID=Europe/Madrid:20260409T180000
DTEND;TZID=Europe/Madrid:20260409T183000
DTSTAMP:20260425T131345
CREATED:20260310T121501Z
LAST-MODIFIED:20260310T121503Z
UID:10000016-1775757600-1775759400@redtalentovalladolid.es
SUMMARY:Reunión bienvenida para los nuevos miembros de la Red
DESCRIPTION:Ubicación: Online – Teams  \n\n\n\nOrden del día: \n\n\n\n\nPresentación de la Red del Talento Vallisoletano en el Exterior\n\n\n\nBreve presentación de los asistentes\n\n\n\nCalendario de actividades y próximas fechas destacadas
URL:https://redtalentovalladolid.es/evento/reunion-bienvenida-para-los-nuevos-miembros-de-la-red-2/
ATTACH;FMTTYPE=image/jpeg:https://redtalentovalladolid.es/wp-content/uploads/reunion-bienvenida.jpg
END:VEVENT
BEGIN:VEVENT
DTSTART;TZID=Europe/Madrid:20260414T160000
DTEND;TZID=Europe/Madrid:20260414T170000
DTSTAMP:20260425T131345
CREATED:20260311T090914Z
LAST-MODIFIED:20260331T111813Z
UID:10000017-1776182400-1776186000@redtalentovalladolid.es
SUMMARY:'Sesiones con expertos': duelo del emigrado
DESCRIPTION:Alicia Dávila Villafáñez es psicóloga general sanitaria\, psicoterapeuta y profesora universitaria. Cuenta con una amplia trayectoria profesional en los ámbitos sociosanitario\, clínico\, educativo y comunitario\, trabajando con infancia\, adolescencia\, familias\, personas adultas y mayores en diferentes entidades públicas y privadas. \n\n\n\nEn esta sesión se resolverán dudas sobre el duelo del emigrado\, un proceso emocional frecuente en las personas que viven lejos de su país de origen. Se abordarán las pérdidas que acompañan a la migración —como la distancia de la familia\, la cultura\, la lengua o el entorno conocido— y cómo estas pueden afectar al bienestar emocional. \n\n\n\n\n\n\n\nUbicación: Online – Teams Fecha: Martes 14 de marzo\, 16:00 – 17:00 (España)
URL:https://redtalentovalladolid.es/evento/sesiones-con-expertos-duelo-del-emigrado/
ATTACH;FMTTYPE=image/jpeg:https://redtalentovalladolid.es/wp-content/uploads/foto_1200x797-1.jpg
END:VEVENT
BEGIN:VEVENT
DTSTART;TZID=Europe/Madrid:20260429T160000
DTEND;TZID=Europe/Madrid:20260429T170000
DTSTAMP:20260425T131345
CREATED:20260318T111348Z
LAST-MODIFIED:20260420T091634Z
UID:10000018-1777478400-1777482000@redtalentovalladolid.es
SUMMARY:'Encuentros con la Red': Enrique Valero
DESCRIPTION:Enrique Valero\, CEO de Abadía Retuerta.  \n\n\n\n\n\n\n\nUbicación: Online – Teams Fecha: Miércoles 29 de abril\, 16:00 – 17:00 (España)
URL:https://redtalentovalladolid.es/evento/encuentros-con-la-red-enrique-valero/
ATTACH;FMTTYPE=image/jpeg:https://redtalentovalladolid.es/wp-content/uploads/Ernesto-Valero_web-1.jpg
END:VEVENT
BEGIN:VEVENT
DTSTART;TZID=Europe/Madrid:20260507T160000
DTEND;TZID=Europe/Madrid:20260507T170000
DTSTAMP:20260425T131345
CREATED:20260330T090709Z
LAST-MODIFIED:20260416T103339Z
UID:10000020-1778169600-1778173200@redtalentovalladolid.es
SUMMARY:'CEOE Conecta': Ana Cuadrado
DESCRIPTION:Ana Cuadrado\, Tech to Market Project Advisor\, Consejo Europeo de Innovación.  \n\n\n\nUbicación: Online – Teams Fecha: Jueves 7 de mayo\, 16:00 – 17:00 (España)
URL:https://redtalentovalladolid.es/evento/ceoe-conecta-ana-cuadrado/
ATTACH;FMTTYPE=image/jpeg:https://redtalentovalladolid.es/wp-content/uploads/Ana-Cuadrado_web-2.jpg
END:VEVENT
BEGIN:VEVENT
DTSTART;TZID=Europe/Madrid:20260604T170000
DTEND;TZID=Europe/Madrid:20260604T180000
DTSTAMP:20260425T131345
CREATED:20260401T110413Z
LAST-MODIFIED:20260420T084608Z
UID:10000019-1780592400-1780596000@redtalentovalladolid.es
SUMMARY:'CEOE Conecta': José Bros
DESCRIPTION:Ubicación: Online – Teams \n\n\n\nJosé Bros Tejedor es director comercial\, de marketing y medios digitales en Oasis Hotels & Resorts.  \n\n\n\nLicenciado en Administración y Dirección de Empresas y en Derecho por CUNEF\, inició su carrera en banca de inversión en Nomura\, aunque pronto orientó su trayectoria hacia el sector hotelero\, atraído por su dinamismo y cercanía con el cliente. Cuenta con más de una década de experiencia en México\, donde ha liderado la estrategia digital\, comercial y de distribución del grupo\, impulsando el crecimiento en mercados internacionales y la optimización del canal directo.
URL:https://redtalentovalladolid.es/evento/ceoe-conecta-2/
ATTACH;FMTTYPE=image/jpeg:https://redtalentovalladolid.es/wp-content/uploads/Jose_Bros_CEOE_Conecta.jpg
END:VEVENT
END:VCALENDAR