BEGIN:VCALENDAR
VERSION:2.0
PRODID:-//Talento Vallisoletano - ECPv6.15.16//NONSGML v1.0//EN
CALSCALE:GREGORIAN
METHOD:PUBLISH
X-ORIGINAL-URL:https://redtalentovalladolid.es
X-WR-CALDESC:Eventos para Talento Vallisoletano
REFRESH-INTERVAL;VALUE=DURATION:PT1H
X-Robots-Tag:noindex
X-PUBLISHED-TTL:PT1H
BEGIN:VTIMEZONE
TZID:Europe/Madrid
BEGIN:DAYLIGHT
TZOFFSETFROM:+0100
TZOFFSETTO:+0200
TZNAME:CEST
DTSTART:20250330T010000
END:DAYLIGHT
BEGIN:STANDARD
TZOFFSETFROM:+0200
TZOFFSETTO:+0100
TZNAME:CET
DTSTART:20251026T010000
END:STANDARD
BEGIN:DAYLIGHT
TZOFFSETFROM:+0100
TZOFFSETTO:+0200
TZNAME:CEST
DTSTART:20260329T010000
END:DAYLIGHT
BEGIN:STANDARD
TZOFFSETFROM:+0200
TZOFFSETTO:+0100
TZNAME:CET
DTSTART:20261025T010000
END:STANDARD
BEGIN:DAYLIGHT
TZOFFSETFROM:+0100
TZOFFSETTO:+0200
TZNAME:CEST
DTSTART:20270328T010000
END:DAYLIGHT
BEGIN:STANDARD
TZOFFSETFROM:+0200
TZOFFSETTO:+0100
TZNAME:CET
DTSTART:20271031T010000
END:STANDARD
END:VTIMEZONE
BEGIN:VEVENT
DTSTART;TZID=Europe/Madrid:20260507T160000
DTEND;TZID=Europe/Madrid:20260507T170000
DTSTAMP:20260424T210037
CREATED:20260330T090709Z
LAST-MODIFIED:20260416T103339Z
UID:10000020-1778169600-1778173200@redtalentovalladolid.es
SUMMARY:'CEOE Conecta': Ana Cuadrado
DESCRIPTION:Ana Cuadrado\, Tech to Market Project Advisor\, Consejo Europeo de Innovación.  \n\n\n\nUbicación: Online – Teams Fecha: Jueves 7 de mayo\, 16:00 – 17:00 (España)
URL:https://redtalentovalladolid.es/evento/ceoe-conecta-ana-cuadrado/
ATTACH;FMTTYPE=image/jpeg:https://redtalentovalladolid.es/wp-content/uploads/Ana-Cuadrado_web-2.jpg
END:VEVENT
END:VCALENDAR